Package: seqArchR Version: 1.13.1 Command: /home/biocbuild/bbs-3.23-bioc/R/bin/R CMD build --keep-empty-dirs --no-resave-data seqArchR StartedAt: 2025-10-23 00:31:03 -0000 (Thu, 23 Oct 2025) EndedAt: 2025-10-23 00:31:43 -0000 (Thu, 23 Oct 2025) EllapsedTime: 40.0 seconds RetCode: 0 Status: OK PackageFile: seqArchR_1.13.1.tar.gz PackageFileSize: 4.402 MiB