Package: seqArchR Version: 1.13.0 Command: /Library/Frameworks/R.framework/Resources/bin/R CMD build --keep-empty-dirs --no-resave-data seqArchR StartedAt: 2025-09-29 18:46:10 -0400 (Mon, 29 Sep 2025) EndedAt: 2025-09-29 18:46:59 -0400 (Mon, 29 Sep 2025) EllapsedTime: 49.2 seconds RetCode: 0 Status: OK PackageFile: seqArchR_1.13.0.tar.gz PackageFileSize: 4.767 MiB