Package: seqArchR Version: 1.13.0 Command: rm -rf seqArchR.buildbin-libdir && mkdir seqArchR.buildbin-libdir && /Users/biocbuild/BBS/utils/build-universal.sh seqArchR_1.13.0.tar.gz /Library/Frameworks/R.framework/Resources/bin/R seqArchR.buildbin-libdir StartedAt: 2025-09-30 02:07:05 -0400 (Tue, 30 Sep 2025) EndedAt: 2025-09-30 02:07:34 -0400 (Tue, 30 Sep 2025) EllapsedTime: 28.9 seconds RetCode: 0 Status: OK PackageFile: seqArchR_1.13.0.tgz PackageFileSize: 2.319 MiB