Package: seqArchR Version: 1.13.1 Maintainer: Sarvesh Nikumbh MaintainerEmail: sarvesh.nikumbh at gmail.com git_url: https://git.bioconductor.org/packages/seqArchR git_branch: devel git_last_commit: 444c04b git_last_commit_date: 2025-10-08 11:35:06 -0400 (Wed, 08 Oct 2025)