Package: seq2pathway Version: 1.43.0 Command: /home/biocbuild/bbs-3.23-bioc/R/bin/R CMD INSTALL seq2pathway StartedAt: 2025-11-03 15:47:01 -0500 (Mon, 03 Nov 2025) EndedAt: 2025-11-03 15:47:25 -0500 (Mon, 03 Nov 2025) EllapsedTime: 23.7 seconds RetCode: 0 Status: OK