Package: seq2pathway Version: 1.43.0 Command: /home/biocbuild/bbs-3.23-bioc/R/bin/R CMD build --keep-empty-dirs --no-resave-data seq2pathway StartedAt: 2025-11-03 19:51:58 -0500 (Mon, 03 Nov 2025) EndedAt: 2025-11-03 19:53:02 -0500 (Mon, 03 Nov 2025) EllapsedTime: 64.1 seconds RetCode: 0 Status: OK PackageFile: seq2pathway_1.43.0.tar.gz PackageFileSize: 1.417 MiB