Package: seq2pathway Version: 1.43.0 Command: /Library/Frameworks/R.framework/Resources/bin/R CMD INSTALL seq2pathway StartedAt: 2025-11-21 15:38:44 -0500 (Fri, 21 Nov 2025) EndedAt: 2025-11-21 15:39:16 -0500 (Fri, 21 Nov 2025) EllapsedTime: 32.0 seconds RetCode: 0 Status: OK