Package: seq2pathway Version: 1.43.0 Command: /Library/Frameworks/R.framework/Resources/bin/R CMD build --keep-empty-dirs --no-resave-data seq2pathway StartedAt: 2025-11-21 18:40:59 -0500 (Fri, 21 Nov 2025) EndedAt: 2025-11-21 18:42:14 -0500 (Fri, 21 Nov 2025) EllapsedTime: 74.2 seconds RetCode: 0 Status: OK PackageFile: seq2pathway_1.43.0.tar.gz PackageFileSize: 1.414 MiB