Package: seq2pathway Version: 1.43.0 Command: rm -rf seq2pathway.buildbin-libdir && mkdir seq2pathway.buildbin-libdir && /Users/biocbuild/BBS/utils/build-universal.sh seq2pathway_1.43.0.tar.gz /Library/Frameworks/R.framework/Resources/bin/R seq2pathway.buildbin-libdir StartedAt: 2025-11-22 01:57:24 -0500 (Sat, 22 Nov 2025) EndedAt: 2025-11-22 01:58:00 -0500 (Sat, 22 Nov 2025) EllapsedTime: 35.6 seconds RetCode: 0 Status: OK PackageFile: seq2pathway_1.43.0.tgz PackageFileSize: 934 KiB