Package: seq2pathway Version: 1.41.0 Command: /Library/Frameworks/R.framework/Resources/bin/R CMD INSTALL seq2pathway StartedAt: 2025-10-23 15:25:19 -0400 (Thu, 23 Oct 2025) EndedAt: 2025-10-23 15:25:28 -0400 (Thu, 23 Oct 2025) EllapsedTime: 9.3 seconds RetCode: 0 Status: OK