Package: seq2pathway Version: 1.41.0 Command: rm -rf seq2pathway.buildbin-libdir && mkdir seq2pathway.buildbin-libdir && /Users/biocbuild/BBS/utils/build-universal.sh seq2pathway_1.41.0.tar.gz /Library/Frameworks/R.framework/Resources/bin/R seq2pathway.buildbin-libdir StartedAt: 2025-10-23 23:26:51 -0400 (Thu, 23 Oct 2025) EndedAt: 2025-10-23 23:27:03 -0400 (Thu, 23 Oct 2025) EllapsedTime: 11.3 seconds RetCode: 0 Status: OK PackageFile: seq2pathway_1.41.0.tgz PackageFileSize: 936.9 KiB