Package: seq.hotSPOT Version: 1.11.0 Command: /home/biocbuild/bbs-3.23-bioc/R/bin/R CMD build --keep-empty-dirs --no-resave-data seq.hotSPOT StartedAt: 2025-11-21 20:01:23 -0500 (Fri, 21 Nov 2025) EndedAt: 2025-11-21 20:01:30 -0500 (Fri, 21 Nov 2025) EllapsedTime: 7.0 seconds RetCode: 0 Status: OK PackageFile: seq.hotSPOT_1.11.0.tar.gz PackageFileSize: 1.401 MiB