Package: seq.hotSPOT Version: 1.11.0 Command: /Library/Frameworks/R.framework/Resources/bin/R CMD INSTALL seq.hotSPOT StartedAt: 2025-11-21 15:11:17 -0500 (Fri, 21 Nov 2025) EndedAt: 2025-11-21 15:11:45 -0500 (Fri, 21 Nov 2025) EllapsedTime: 28.0 seconds RetCode: 0 Status: OK