Package: seq.hotSPOT Version: 1.11.0 Command: /Library/Frameworks/R.framework/Resources/bin/R CMD build --keep-empty-dirs --no-resave-data seq.hotSPOT StartedAt: 2025-11-21 18:40:48 -0500 (Fri, 21 Nov 2025) EndedAt: 2025-11-21 18:40:59 -0500 (Fri, 21 Nov 2025) EllapsedTime: 11.4 seconds RetCode: 0 Status: OK PackageFile: seq.hotSPOT_1.11.0.tar.gz PackageFileSize: 1.401 MiB