Package: seq.hotSPOT Version: 1.9.0 Command: /Library/Frameworks/R.framework/Resources/bin/R CMD build --keep-empty-dirs --no-resave-data seq.hotSPOT StartedAt: 2025-10-24 17:43:38 -0400 (Fri, 24 Oct 2025) EndedAt: 2025-10-24 17:43:42 -0400 (Fri, 24 Oct 2025) EllapsedTime: 4.1 seconds RetCode: 0 Status: OK PackageFile: seq.hotSPOT_1.9.0.tar.gz PackageFileSize: 1.401 MiB