Package: seq.hotSPOT Version: 1.9.0 Command: rm -rf seq.hotSPOT.buildbin-libdir && mkdir seq.hotSPOT.buildbin-libdir && /Users/biocbuild/BBS/utils/build-universal.sh seq.hotSPOT_1.9.0.tar.gz /Library/Frameworks/R.framework/Resources/bin/R seq.hotSPOT.buildbin-libdir StartedAt: 2025-10-24 23:19:36 -0400 (Fri, 24 Oct 2025) EndedAt: 2025-10-24 23:19:38 -0400 (Fri, 24 Oct 2025) EllapsedTime: 2.1 seconds RetCode: 0 Status: OK PackageFile: seq.hotSPOT_1.9.0.tgz PackageFileSize: 276.2 KiB