Package: semisup Version: 1.35.0 Command: /home/biocbuild/bbs-3.23-bioc/R/bin/R CMD INSTALL semisup StartedAt: 2025-11-20 15:06:50 -0500 (Thu, 20 Nov 2025) EndedAt: 2025-11-20 15:07:12 -0500 (Thu, 20 Nov 2025) EllapsedTime: 21.1 seconds RetCode: 0 Status: OK