Package: semisup Version: 1.35.0 Command: /home/biocbuild/bbs-3.23-bioc/R/bin/R CMD build --keep-empty-dirs --no-resave-data semisup StartedAt: 2025-11-20 20:01:20 -0500 (Thu, 20 Nov 2025) EndedAt: 2025-11-20 20:01:29 -0500 (Thu, 20 Nov 2025) EllapsedTime: 9.0 seconds RetCode: 0 Status: OK PackageFile: semisup_1.35.0.tar.gz PackageFileSize: 306.6 KiB