Package: semisup Version: 1.35.0 Command: /Library/Frameworks/R.framework/Resources/bin/R CMD INSTALL semisup StartedAt: 2025-11-17 15:08:29 -0500 (Mon, 17 Nov 2025) EndedAt: 2025-11-17 15:09:02 -0500 (Mon, 17 Nov 2025) EllapsedTime: 32.9 seconds RetCode: 0 Status: OK