Package: semisup Version: 1.35.0 Command: /Library/Frameworks/R.framework/Resources/bin/R CMD build --keep-empty-dirs --no-resave-data semisup StartedAt: 2025-11-17 18:56:03 -0500 (Mon, 17 Nov 2025) EndedAt: 2025-11-17 18:56:19 -0500 (Mon, 17 Nov 2025) EllapsedTime: 16.0 seconds RetCode: 0 Status: OK PackageFile: semisup_1.35.0.tar.gz PackageFileSize: 306.2 KiB