Package: semisup Version: 1.35.0 Command: rm -rf semisup.buildbin-libdir && mkdir semisup.buildbin-libdir && /Users/biocbuild/BBS/utils/build-universal.sh semisup_1.35.0.tar.gz /Library/Frameworks/R.framework/Resources/bin/R semisup.buildbin-libdir StartedAt: 2025-11-18 07:23:35 -0500 (Tue, 18 Nov 2025) EndedAt: 2025-11-18 07:23:42 -0500 (Tue, 18 Nov 2025) EllapsedTime: 6.9 seconds RetCode: 0 Status: OK PackageFile: semisup_1.35.0.tgz PackageFileSize: 377 KiB