Package: semisup Version: 1.33.0 Command: /Library/Frameworks/R.framework/Resources/bin/R CMD build --keep-empty-dirs --no-resave-data semisup StartedAt: 2025-10-24 17:43:36 -0400 (Fri, 24 Oct 2025) EndedAt: 2025-10-24 17:43:42 -0400 (Fri, 24 Oct 2025) EllapsedTime: 6.1 seconds RetCode: 0 Status: OK PackageFile: semisup_1.33.0.tar.gz PackageFileSize: 306.4 KiB