Package: semisup Version: 1.33.0 Command: rm -rf semisup.buildbin-libdir && mkdir semisup.buildbin-libdir && /Users/biocbuild/BBS/utils/build-universal.sh semisup_1.33.0.tar.gz /Library/Frameworks/R.framework/Resources/bin/R semisup.buildbin-libdir StartedAt: 2025-10-24 23:19:34 -0400 (Fri, 24 Oct 2025) EndedAt: 2025-10-24 23:19:36 -0400 (Fri, 24 Oct 2025) EllapsedTime: 2.0 seconds RetCode: 0 Status: OK PackageFile: semisup_1.33.0.tgz PackageFileSize: 377.6 KiB