Package: selectKSigs Version: 1.23.0 Command: /home/biocbuild/bbs-3.23-bioc/R/bin/R CMD INSTALL selectKSigs StartedAt: 2025-11-20 16:00:12 -0500 (Thu, 20 Nov 2025) EndedAt: 2025-11-20 16:00:26 -0500 (Thu, 20 Nov 2025) EllapsedTime: 14.1 seconds RetCode: 0 Status: OK