Package: selectKSigs Version: 1.23.0 Command: /home/biocbuild/bbs-3.23-bioc/R/bin/R CMD build --keep-empty-dirs --no-resave-data selectKSigs StartedAt: 2025-11-20 20:00:38 -0500 (Thu, 20 Nov 2025) EndedAt: 2025-11-20 20:02:10 -0500 (Thu, 20 Nov 2025) EllapsedTime: 92.1 seconds RetCode: 0 Status: OK PackageFile: selectKSigs_1.23.0.tar.gz PackageFileSize: 391.2 KiB