Package: selectKSigs Version: 1.21.0 Command: /Library/Frameworks/R.framework/Resources/bin/R CMD INSTALL selectKSigs StartedAt: 2025-10-20 15:51:30 -0400 (Mon, 20 Oct 2025) EndedAt: 2025-10-20 15:51:49 -0400 (Mon, 20 Oct 2025) EllapsedTime: 18.8 seconds RetCode: 0 Status: OK