Package: selectKSigs Version: 1.21.0 Command: /Library/Frameworks/R.framework/Resources/bin/R CMD build --keep-empty-dirs --no-resave-data selectKSigs StartedAt: 2025-10-20 19:25:19 -0400 (Mon, 20 Oct 2025) EndedAt: 2025-10-20 19:27:56 -0400 (Mon, 20 Oct 2025) EllapsedTime: 156.5 seconds RetCode: 0 Status: OK PackageFile: selectKSigs_1.21.0.tar.gz PackageFileSize: 399.6 KiB