Package: selectKSigs Version: 1.21.0 Command: /Library/Frameworks/R.framework/Resources/bin/R CMD build --keep-empty-dirs --no-resave-data selectKSigs StartedAt: 2025-10-03 17:41:31 -0400 (Fri, 03 Oct 2025) EndedAt: 2025-10-03 17:42:07 -0400 (Fri, 03 Oct 2025) EllapsedTime: 36.5 seconds RetCode: 0 Status: OK PackageFile: selectKSigs_1.21.0.tar.gz PackageFileSize: 406.5 KiB