Package: selectKSigs Version: 1.21.0 Command: rm -rf selectKSigs.buildbin-libdir && mkdir selectKSigs.buildbin-libdir && /Users/biocbuild/BBS/utils/build-universal.sh selectKSigs_1.21.0.tar.gz /Library/Frameworks/R.framework/Resources/bin/R selectKSigs.buildbin-libdir StartedAt: 2025-10-03 22:55:30 -0400 (Fri, 03 Oct 2025) EndedAt: 2025-10-03 22:55:36 -0400 (Fri, 03 Oct 2025) EllapsedTime: 6.1 seconds RetCode: 0 Status: OK PackageFile: selectKSigs_1.21.0.tgz PackageFileSize: 490 KiB