Package: selectKSigs Version: 1.23.0 Maintainer: Zhi Yang MaintainerEmail: zyang895 at gmail.com git_url: https://git.bioconductor.org/packages/selectKSigs git_branch: devel git_last_commit: 3098545 git_last_commit_date: 2025-10-29 10:55:55 -0400 (Wed, 29 Oct 2025)