Package: segmenter Version: 1.17.0 Command: /home/biocbuild/bbs-3.23-bioc/R/bin/R CMD INSTALL segmenter StartedAt: 2025-11-03 15:59:10 -0500 (Mon, 03 Nov 2025) EndedAt: 2025-11-03 15:59:55 -0500 (Mon, 03 Nov 2025) EllapsedTime: 44.9 seconds RetCode: 0 Status: OK