Package: segmenter Version: 1.17.0 Command: /home/biocbuild/bbs-3.23-bioc/R/bin/R CMD check --install=check:segmenter.install-out.txt --library=/home/biocbuild/bbs-3.23-bioc/R/site-library --timings segmenter_1.17.0.tar.gz StartedAt: 2025-11-05 03:40:17 -0500 (Wed, 05 Nov 2025) EndedAt: 2025-11-05 03:54:39 -0500 (Wed, 05 Nov 2025) EllapsedTime: 862.2 seconds RetCode: 0 Status: OK CheckDir: segmenter.Rcheck Warnings: 0