Package: segmenter Version: 1.15.0 Command: /Library/Frameworks/R.framework/Resources/bin/R CMD check --install=check:segmenter.install-out.txt --library=/Library/Frameworks/R.framework/Resources/library --no-vignettes --timings segmenter_1.15.0.tar.gz StartedAt: 2025-09-29 21:36:55 -0400 (Mon, 29 Sep 2025) EndedAt: 2025-09-29 21:40:03 -0400 (Mon, 29 Sep 2025) EllapsedTime: 187.4 seconds RetCode: 0 Status: OK CheckDir: segmenter.Rcheck Warnings: 0