Package: segmentSeq Version: 2.45.0 Command: /home/biocbuild/bbs-3.23-bioc/R/bin/R CMD check --install=check:segmentSeq.install-out.txt --library=/home/biocbuild/bbs-3.23-bioc/R/site-library --timings segmentSeq_2.45.0.tar.gz StartedAt: 2025-11-04 03:24:29 -0500 (Tue, 04 Nov 2025) EndedAt: 2025-11-04 03:32:46 -0500 (Tue, 04 Nov 2025) EllapsedTime: 496.8 seconds RetCode: 0 Status: OK CheckDir: segmentSeq.Rcheck Warnings: 0