Package: sechm Version: 1.19.0 Command: /home/biocbuild/bbs-3.23-bioc/R/bin/R CMD INSTALL sechm StartedAt: 2025-11-07 15:18:09 -0500 (Fri, 07 Nov 2025) EndedAt: 2025-11-07 15:18:33 -0500 (Fri, 07 Nov 2025) EllapsedTime: 24.1 seconds RetCode: 0 Status: OK