Package: sechm Version: 1.19.0 Command: /home/biocbuild/bbs-3.23-bioc/R/bin/R CMD build --keep-empty-dirs --no-resave-data sechm StartedAt: 2025-11-07 19:56:35 -0500 (Fri, 07 Nov 2025) EndedAt: 2025-11-07 19:57:44 -0500 (Fri, 07 Nov 2025) EllapsedTime: 69.1 seconds RetCode: 0 Status: OK PackageFile: sechm_1.19.0.tar.gz PackageFileSize: 1.049 MiB