Package: sechm Version: 1.17.1 Command: /Library/Frameworks/R.framework/Resources/bin/R CMD INSTALL sechm StartedAt: 2025-10-10 15:25:03 -0400 (Fri, 10 Oct 2025) EndedAt: 2025-10-10 15:25:38 -0400 (Fri, 10 Oct 2025) EllapsedTime: 34.6 seconds RetCode: 0 Status: OK