Package: sechm Version: 1.17.1 Command: /Library/Frameworks/R.framework/Resources/bin/R CMD build --keep-empty-dirs --no-resave-data sechm StartedAt: 2025-10-10 19:10:44 -0400 (Fri, 10 Oct 2025) EndedAt: 2025-10-10 19:12:10 -0400 (Fri, 10 Oct 2025) EllapsedTime: 85.9 seconds RetCode: 0 Status: OK PackageFile: sechm_1.17.1.tar.gz PackageFileSize: 1.051 MiB