Package: sechm Version: 1.17.1 Command: rm -rf sechm.buildbin-libdir && mkdir sechm.buildbin-libdir && /Users/biocbuild/BBS/utils/build-universal.sh sechm_1.17.1.tar.gz /Library/Frameworks/R.framework/Resources/bin/R sechm.buildbin-libdir StartedAt: 2025-10-11 02:53:21 -0400 (Sat, 11 Oct 2025) EndedAt: 2025-10-11 02:53:59 -0400 (Sat, 11 Oct 2025) EllapsedTime: 38.1 seconds RetCode: 0 Status: OK PackageFile: sechm_1.17.1.tgz PackageFileSize: 1.127 MiB