Package: sechm Version: 1.17.1 Maintainer: Pierre-Luc Germain MaintainerEmail: pierre-luc.germain at hest.ethz.ch git_url: https://git.bioconductor.org/packages/sechm git_branch: devel git_last_commit: 9544d4f git_last_commit_date: 2025-04-24 09:11:23 -0400 (Thu, 24 Apr 2025)