Package: seahtrue Version: 1.5.0 Command: /home/biocbuild/bbs-3.23-bioc/R/bin/R CMD build --keep-empty-dirs --no-resave-data seahtrue StartedAt: 2025-11-21 20:00:19 -0500 (Fri, 21 Nov 2025) EndedAt: 2025-11-21 20:03:30 -0500 (Fri, 21 Nov 2025) EllapsedTime: 190.2 seconds RetCode: 0 Status: OK PackageFile: seahtrue_1.5.0.tar.gz PackageFileSize: 3.321 MiB