Package: seahtrue Version: 1.5.0 Command: /Library/Frameworks/R.framework/Resources/bin/R CMD build --keep-empty-dirs --no-resave-data seahtrue StartedAt: 2025-11-21 17:37:10 -0500 (Fri, 21 Nov 2025) EndedAt: 2025-11-21 17:38:18 -0500 (Fri, 21 Nov 2025) EllapsedTime: 67.8 seconds RetCode: 0 Status: OK PackageFile: seahtrue_1.5.0.tar.gz PackageFileSize: 3.321 MiB