Package: seahtrue Version: 1.5.0 Command: rm -rf seahtrue.buildbin-libdir && mkdir seahtrue.buildbin-libdir && /Users/biocbuild/BBS/utils/build-universal.sh seahtrue_1.5.0.tar.gz /Library/Frameworks/R.framework/Resources/bin/R seahtrue.buildbin-libdir StartedAt: 2025-11-21 23:50:58 -0500 (Fri, 21 Nov 2025) EndedAt: 2025-11-21 23:51:03 -0500 (Fri, 21 Nov 2025) EllapsedTime: 5.1 seconds RetCode: 0 Status: OK PackageFile: seahtrue_1.5.0.tgz PackageFileSize: 3.39 MiB