Package: scviR Version: 1.9.11 Command: /home/biocbuild/R/R/bin/R CMD INSTALL scviR StartedAt: 2025-10-13 21:45:18 -0000 (Mon, 13 Oct 2025) EndedAt: 2025-10-13 21:45:58 -0000 (Mon, 13 Oct 2025) EllapsedTime: 40.9 seconds RetCode: 0 Status: OK