Package: scviR Version: 1.9.11 Command: /home/biocbuild/R/R/bin/R CMD build --keep-empty-dirs --no-resave-data scviR StartedAt: 2025-10-14 03:31:45 -0000 (Tue, 14 Oct 2025) EndedAt: 2025-10-14 03:33:35 -0000 (Tue, 14 Oct 2025) EllapsedTime: 110.1 seconds RetCode: 1 Status: ERROR PackageFile: None PackageFileSize: NA