Package: scviR Version: 1.11.0 Command: /home/biocbuild/bbs-3.23-bioc/R/bin/R CMD INSTALL scviR StartedAt: 2025-11-04 15:54:41 -0500 (Tue, 04 Nov 2025) EndedAt: 2025-11-04 15:55:13 -0500 (Tue, 04 Nov 2025) EllapsedTime: 31.5 seconds RetCode: 0 Status: OK