Package: scviR Version: 1.11.0 Command: /home/biocbuild/bbs-3.23-bioc/R/bin/R CMD build --keep-empty-dirs --no-resave-data scviR StartedAt: 2025-11-04 19:53:18 -0500 (Tue, 04 Nov 2025) EndedAt: 2025-11-04 20:04:13 -0500 (Tue, 04 Nov 2025) EllapsedTime: 655.7 seconds RetCode: 0 Status: OK PackageFile: scviR_1.11.0.tar.gz PackageFileSize: 3.854 MiB