Package: scviR Version: 1.9.11 Command: /Library/Frameworks/R.framework/Resources/bin/R CMD INSTALL scviR StartedAt: 2025-10-03 15:48:06 -0400 (Fri, 03 Oct 2025) EndedAt: 2025-10-03 15:48:50 -0400 (Fri, 03 Oct 2025) EllapsedTime: 44.0 seconds RetCode: 0 Status: OK