Package: scviR Version: 1.9.11 Command: /Library/Frameworks/R.framework/Resources/bin/R CMD build --keep-empty-dirs --no-resave-data scviR StartedAt: 2025-10-03 18:58:23 -0400 (Fri, 03 Oct 2025) EndedAt: 2025-10-03 19:00:09 -0400 (Fri, 03 Oct 2025) EllapsedTime: 105.2 seconds RetCode: 1 Status: ERROR PackageFile: None PackageFileSize: NA