Package: scviR Version: 1.9.14 Maintainer: Vincent Carey MaintainerEmail: stvjc at channing.harvard.edu git_url: https://git.bioconductor.org/packages/scviR git_branch: devel git_last_commit: a7a94a2 git_last_commit_date: 2025-10-21 12:30:36 -0400 (Tue, 21 Oct 2025)